BEGIN:VCALENDAR
VERSION:2.0
PRODID:-//jEvents 2.0 for Joomla//EN
CALSCALE:GREGORIAN
METHOD:PUBLISH
BEGIN:VEVENT
UID:2aeb796d1455ad21737ec207bb436f2b
CATEGORIES:League and Bonspiel 2025-26
CREATED:20250806T150656
SUMMARY:Mens Club Championships
DESCRIPTION:
DTSTAMP:20260420T125039
DTSTART:20260406T230000
DTEND:20260411T040000
SEQUENCE:0
TRANSP:OPAQUE
END:VEVENT
END:VCALENDAR