BEGIN:VCALENDAR
VERSION:2.0
PRODID:-//jEvents 2.0 for Joomla//EN
CALSCALE:GREGORIAN
METHOD:PUBLISH
BEGIN:VEVENT
UID:7fff17e8423bbd9ca02dbb2067e8c639
CATEGORIES:Rental and Practice 2025-26
CREATED:20251010T182629
SUMMARY:(8) Movement Centre of Manitoba
DESCRIPTION:
DTSTAMP:20260420T124624
DTSTART:20260418T140000
DTEND:20260419T020000
SEQUENCE:0
TRANSP:OPAQUE
END:VEVENT
END:VCALENDAR