BEGIN:VCALENDAR
VERSION:2.0
PRODID:-//jEvents 2.0 for Joomla//EN
CALSCALE:GREGORIAN
METHOD:PUBLISH
BEGIN:VEVENT
UID:79d3cc3ce8b5c44f2a4e462fd1b66510
CATEGORIES:Rental and Practice 2025-26
CREATED:20260330T205210
SUMMARY:(8) Volunteer Appreciation Day
DESCRIPTION:
DTSTAMP:20260420T125100
DTSTART:20260419T180000
SEQUENCE:0
TRANSP:OPAQUE
END:VEVENT
END:VCALENDAR