BEGIN:VCALENDAR
VERSION:2.0
PRODID:-//jEvents 2.0 for Joomla//EN
CALSCALE:GREGORIAN
METHOD:PUBLISH
BEGIN:VEVENT
UID:d8fba293190d5b679895590c74cdd351
CATEGORIES:Rental and Practice 2025-26
CREATED:20260407T094932
SUMMARY:(2) Tentative - Hailey's LTC with friends
DESCRIPTION:
DTSTAMP:20260420T124613
DTSTART:20260413T220000
DTEND:20260414T000000
SEQUENCE:0
TRANSP:OPAQUE
END:VEVENT
END:VCALENDAR