BEGIN:VCALENDAR
VERSION:2.0
PRODID:-//jEvents 2.0 for Joomla//EN
CALSCALE:GREGORIAN
METHOD:PUBLISH
BEGIN:VEVENT
UID:b0af48bfaf47da5250c5efb3b143ce2e
CATEGORIES:Rental and Practice 2025-26
CREATED:20260407T101518
SUMMARY:(1) Carolyn Lindner Practice
DESCRIPTION:
DTSTAMP:20260420T130545
DTSTART:20260419T150000
DTEND:20260419T170000
SEQUENCE:0
TRANSP:OPAQUE
END:VEVENT
END:VCALENDAR