BEGIN:VCALENDAR
VERSION:2.0
PRODID:-//jEvents 2.0 for Joomla//EN
CALSCALE:GREGORIAN
METHOD:PUBLISH
BEGIN:VEVENT
UID:e080f8041461ac0111c3f5d8341b97b0
CATEGORIES:Rental and Practice 2025-26
CREATED:20260413T212524
SUMMARY:(1) Team McDonald Practice
DESCRIPTION:
DTSTAMP:20260420T124526
DTSTART:20260419T150000
DTEND:20260419T170000
SEQUENCE:0
TRANSP:OPAQUE
END:VEVENT
END:VCALENDAR