BEGIN:VCALENDAR
VERSION:2.0
PRODID:-//jEvents 2.0 for Joomla//EN
CALSCALE:GREGORIAN
METHOD:PUBLISH
BEGIN:VEVENT
UID:e09c48750d4de9e72f40899aef966854
CATEGORIES:Rental and Practice 2025-26
CREATED:20260109T173556
SUMMARY:(8) Japanese Cultural Association of Manitoba Bonspiel
DESCRIPTION:
DTSTAMP:20260420T124733
DTSTART:20260411T133000
DTEND:20260411T213000
SEQUENCE:0
TRANSP:OPAQUE
END:VEVENT
END:VCALENDAR