BEGIN:VCALENDAR
VERSION:2.0
PRODID:-//jEvents 2.0 for Joomla//EN
CALSCALE:GREGORIAN
METHOD:PUBLISH
BEGIN:VEVENT
UID:e1cfe66ed65c3a5b974d2203a7a24a23
CATEGORIES:Rental and Practice 2025-26
CREATED:20260316T094213
SUMMARY:(4) Mercier & Associates Rental
DESCRIPTION:
DTSTAMP:20260420T124910
DTSTART:20260417T220000
DTEND:20260418T020000
SEQUENCE:0
TRANSP:OPAQUE
END:VEVENT
END:VCALENDAR