BEGIN:VCALENDAR
VERSION:2.0
PRODID:-//jEvents 2.0 for Joomla//EN
CALSCALE:GREGORIAN
METHOD:PUBLISH
BEGIN:VEVENT
UID:73b11064dff83317db936d87835ef49f
CATEGORIES:Rental and Practice 2025-26
CREATED:20260327T094347
SUMMARY:Baby Shower (Lounge Rental)
DESCRIPTION:
DTSTAMP:20260420T112004
DTSTART:20260503T130000
DTEND:20260503T220000
SEQUENCE:0
TRANSP:OPAQUE
END:VEVENT
END:VCALENDAR