BEGIN:VCALENDAR
VERSION:2.0
PRODID:-//jEvents 2.0 for Joomla//EN
CALSCALE:GREGORIAN
METHOD:PUBLISH
BEGIN:VEVENT
UID:bc219702b77a2e608604eb64259fd0a2
CATEGORIES:Rental and Practice 2025-26
CREATED:20260327T192658
SUMMARY:(1) Emilie R. Practice
DESCRIPTION:
DTSTAMP:20260420T131731
DTSTART:20260401T190000
DTEND:20260401T200000
SEQUENCE:0
TRANSP:OPAQUE
END:VEVENT
END:VCALENDAR