BEGIN:VCALENDAR
VERSION:2.0
PRODID:-//jEvents 2.0 for Joomla//EN
CALSCALE:GREGORIAN
METHOD:PUBLISH
BEGIN:VEVENT
UID:9da92d3d4d70f349c36b3b99ba503ae7
CATEGORIES:Rental and Practice 2025-26
CREATED:20260329T080359
SUMMARY:(8) Men’s League
DESCRIPTION:
DTSTAMP:20260420T143640
DTSTART:20260403T000000
SEQUENCE:0
TRANSP:OPAQUE
END:VEVENT
END:VCALENDAR