BEGIN:VCALENDAR
VERSION:2.0
PRODID:-//jEvents 2.0 for Joomla//EN
CALSCALE:GREGORIAN
METHOD:PUBLISH
BEGIN:VEVENT
UID:e520d3f421e8a5f96dd906be9533bb20
CATEGORIES:Rental and Practice 2025-26
CREATED:20260402T100221
SUMMARY:(4) Beth Peterson Sponsor Rental (Ice and Lounge)
DESCRIPTION:
DTSTAMP:20260420T130636
DTSTART:20260416T200000
DTEND:20260416T220000
SEQUENCE:0
TRANSP:OPAQUE
END:VEVENT
END:VCALENDAR