BEGIN:VCALENDAR
VERSION:2.0
PRODID:-//jEvents 2.0 for Joomla//EN
CALSCALE:GREGORIAN
METHOD:PUBLISH
BEGIN:VEVENT
UID:b9b24ff049dc3c40f1438890e7c99d9e
CATEGORIES:Rental and Practice 2025-26
CREATED:20260407T094607
SUMMARY:(1) Carolyn Lindner Practice (2 hours)
DESCRIPTION:
DTSTAMP:20260420T124706
DTSTART:20260412T180000
DTEND:20260412T200000
SEQUENCE:0
TRANSP:OPAQUE
END:VEVENT
END:VCALENDAR