BEGIN:VCALENDAR
VERSION:2.0
PRODID:-//jEvents 2.0 for Joomla//EN
CALSCALE:GREGORIAN
METHOD:PUBLISH
BEGIN:VEVENT
UID:2fff19192e23e52a1aa6cfb3918b11ad
CATEGORIES:Rental and Practice 2025-26
CREATED:20260408T180042
SUMMARY:(1) Kerry Lavoie Jr Team Practice
DESCRIPTION:
DTSTAMP:20260420T124857
DTSTART:20260412T180000
DTEND:20260412T200000
SEQUENCE:0
TRANSP:OPAQUE
END:VEVENT
END:VCALENDAR